BEGIN:VCALENDAR
VERSION:2.0
PRODID:-//Baugenossenschaft Zürileu - ECPv6.15.20//NONSGML v1.0//EN
CALSCALE:GREGORIAN
METHOD:PUBLISH
X-WR-CALNAME:Baugenossenschaft Zürileu
X-ORIGINAL-URL:https://bgzuerileu.ch
X-WR-CALDESC:Veranstaltungen im Baugenossenschaft Zürileu
REFRESH-INTERVAL;VALUE=DURATION:PT1H
X-Robots-Tag:noindex
X-PUBLISHED-TTL:PT1H
BEGIN:VTIMEZONE
TZID:Europe/Zurich
BEGIN:DAYLIGHT
TZOFFSETFROM:+0100
TZOFFSETTO:+0200
TZNAME:CEST
DTSTART:20250330T010000
END:DAYLIGHT
BEGIN:STANDARD
TZOFFSETFROM:+0200
TZOFFSETTO:+0100
TZNAME:CET
DTSTART:20251026T010000
END:STANDARD
BEGIN:DAYLIGHT
TZOFFSETFROM:+0100
TZOFFSETTO:+0200
TZNAME:CEST
DTSTART:20260329T010000
END:DAYLIGHT
BEGIN:STANDARD
TZOFFSETFROM:+0200
TZOFFSETTO:+0100
TZNAME:CET
DTSTART:20261025T010000
END:STANDARD
BEGIN:DAYLIGHT
TZOFFSETFROM:+0100
TZOFFSETTO:+0200
TZNAME:CEST
DTSTART:20270328T010000
END:DAYLIGHT
BEGIN:STANDARD
TZOFFSETFROM:+0200
TZOFFSETTO:+0100
TZNAME:CET
DTSTART:20271031T010000
END:STANDARD
END:VTIMEZONE
BEGIN:VEVENT
DTSTART;TZID=Europe/Zurich:20260529T190000
DTEND;TZID=Europe/Zurich:20260529T190000
DTSTAMP:20260424T143747
CREATED:20260324T090425Z
LAST-MODIFIED:20260324T100724Z
UID:1850-1780081200-1780081200@bgzuerileu.ch
SUMMARY:Informationsveranstaltung Zukunft Zürileu
DESCRIPTION:
URL:https://bgzuerileu.ch/event/informationsveranstaltung-zukunft-zuerileu/
LOCATION:Hotel Mövenpick\, Regensdorf\, Im Zentrum 2\, Regensdorf\, 8105
END:VEVENT
BEGIN:VEVENT
DTSTART;TZID=Europe/Zurich:20260612T190000
DTEND;TZID=Europe/Zurich:20260612T190000
DTSTAMP:20260424T143747
CREATED:20250627T193519Z
LAST-MODIFIED:20260324T100938Z
UID:1822-1781290800-1781290800@bgzuerileu.ch
SUMMARY:Generalversammlung 2026
DESCRIPTION:
URL:https://bgzuerileu.ch/event/generalversammlung-2026/
LOCATION:Hotel Mövenpick\, Regensdorf\, Im Zentrum 2\, Regensdorf\, 8105
END:VEVENT
END:VCALENDAR